BEGIN:VCALENDAR
VERSION:2.0
PRODID:-//Tukios.com/
BEGIN:VEVENT
UID:3b3d6e21-0c08-4c00-a36d-39fd503dc2f8@www.olneyfoust.com
DTSTAMP:20260421T225422Z
DTSTART:20260427T200000Z
DTEND:20260427T230000Z
SUMMARY:Visitation
DESCRIPTION:
URL:https://www.olneyfoust.com/obituaries/gregory-shelley
LOCATION:Olney-Foust & Embser Funeral Homes & Cremation 17 Schuyler 
	Street  Belmont NY 14813
GEO:42.2229516;-78.0334102
END:VEVENT
END:VCALENDAR