BEGIN:VCALENDAR
VERSION:2.0
PRODID:-//Tukios.com/
BEGIN:VEVENT
UID:40c4ea67-e3fe-4e1c-8c08-28d73f746836@www.olneyfoust.com
DTSTAMP:20260421T225325Z
DTSTART:20260428T150000Z
DTEND:20260428T160000Z
SUMMARY:Funeral Service
DESCRIPTION:
URL:https://www.olneyfoust.com/obituaries/gregory-shelley
LOCATION:St. John’s Episcopal Church 206 North Main Street  Wellsville 
	NY 14895
GEO:42.1234817;-77.9503664
END:VEVENT
END:VCALENDAR