BEGIN:VCALENDAR
VERSION:2.0
PRODID:-//Tukios.com/
BEGIN:VEVENT
UID:a1785261-e40d-4a2a-b72f-e0c687593374@www.olneyfoust.com
DTSTAMP:20260421T063102Z
DTSTART:20260425T150000Z
DTEND:20260425T160000Z
SUMMARY:Memorial Service
DESCRIPTION:
URL:https://www.olneyfoust.com/obituaries/mitzi-haskins
LOCATION: 205 Arnold Avenue  Port Allegany PA 16743
GEO:41.8138519;-78.2785965
END:VEVENT
END:VCALENDAR