BEGIN:VCALENDAR
VERSION:2.0
PRODID:-//Tukios.com/
BEGIN:VEVENT
UID:c936a012-49fc-48ea-b32d-60c1517c3cc6@www.olneyfoust.com
DTSTAMP:20260422T224250Z
DTSTART:20260505T180000Z
DTEND:20260505T190000Z
SUMMARY:Graveside Service
DESCRIPTION:
URL:https://www.olneyfoust.com/obituaries/rex-carpenter
LOCATION:Ulysses Cemetery North Main Street  Ulysses PA 16948
GEO:41.9107296;-77.7572372
END:VEVENT
END:VCALENDAR